BEGIN:VCALENDAR
VERSION:2.0
PRODID:-//TYPO3/NONSGML Calendarize//EN
BEGIN:VEVENT
UID:calendarize-default-544ad51bcd
DTSTAMP:20260422T135440Z
DTSTART:20260508T160000Z
SUMMARY:Mitgliederversammlung des RV Kleeblatt-Region
DESCRIPTION:Der bündnisgrüne Regionalverband Kleeblatt-Region trifft sic
 h zur ordnetlichen Mitgliederversammlung. Auf der Tagesordnung stehen unte
 r anderem die Nachwahl einer Vorstandssprecher*in und die Nachwahl einer B
 eisitzer*in. Auch wird aus der Fraktionsarbeit in der Stadtverordnetenvers
 ammlung Kyritz berichtet werden.\n\n
X-ALT-DESC;FMTTYPE=text/html:<p>Der bündnisgrüne <a class="internal-link
 " href="t3://page?uid=220473">Regionalverband Kleeblatt-Region</a> trifft 
 sich zur ordnetlichen Mitgliederversammlung. Auf der Tagesordnung stehen u
 nter anderem die Nachwahl einer Vorstandssprecher*in und die Nachwahl eine
 r Beisitzer*in. Auch wird aus der Fraktionsarbeit in der Stadtverordnetenv
 ersammlung Kyritz berichtet werden.</p>\n\n
LOCATION:Waldschlösschen\, Seestraße 110\, 16866 Kyritz
END:VEVENT
END:VCALENDAR
