BEGIN:VCALENDAR
VERSION:2.0
PRODID:-//TYPO3/NONSGML Calendarize//EN
BEGIN:VEVENT
UID:calendarize-e-mobilitaet-in-opr-einladung-zum-realitaetscheck-mit-land
 rat-ralf-reinhardt
DTSTAMP:20260422T153545Z
DTSTART:20260429T160000Z
SUMMARY:E-Mobilität in OPR? Einladung zum „Realitätscheck“ mit Landr
 at Ralf Reinhardt
DESCRIPTION:Der bündnisgrüne Kreisverband OPR lädt am Mittwoch\, dem 29
 . April um 18 Uhr zum offenen Austausch rund um das Thema E-Mobilität in 
 OPR ein. Treffpunkt: Die bündnisgrüne Kreisgeschäftsstelle in der Augus
 t-Bebel-Str. 24 in Neuruppin. Wer sich für das Thema E-Autos und Ladeinfr
 astruktur allgemein interessiert\, aktuell über den Umstieg auf ein E-Aut
 o nachdenkt\, bereits eigene Erfahrungen gesammelt oder konkrete Anliegen 
 zum Thema hat\, ist genau richtig. Als Gesprächspartner*innen sind auf je
 den Fall dabei: Vier Personen\, die zu Beginn kurz von ihren eigenen\, jew
 eils ganz unterschiedlichen Erfahrungen mit dem eigenen E-Auto in OPR beri
 chten und Ralf Reinhardt\, amtierender Landrat. Herr Reinhardt fährt nich
 t nur selbst schon seit längerer Zeit ein E-Auto\, sondern engagiert sich
  auch für den Ausbau der Ladeinfrastruktur und die richtigen Rahmenbeding
 ungen hierfür im Landkreis - und freut sich auf Ihre Fragen hierzu. Auße
 rdem gibt es am 29. April vor Ort die wichtigsten Eckdaten zu aktuellen Fö
 rderprogrammen sowie zum Thema E-Mobilität und Ladeinfrastruktur in OPR u
 nd die Möglichkeit\, passend zum Thema Wünsche an die Kommunal-\, Landes
 - oder Bundespolitik zu äußern. Der bündnisgrüne Kreisvorstand übermi
 ttelt Letztere im Anschluss an die richtigen Adressaten.\nWir freuen uns a
 uf Ihre Fragen und Gedanken zum Thema. Eine Anmeldung ist nicht erforderli
 ch.
X-ALT-DESC;FMTTYPE=text/html:<p>Der bündnisgrüne Kreisverband OPR lädt 
 am Mittwoch\, dem 29. April um 18 Uhr zum offenen Austausch rund um das Th
 ema E-Mobilität in OPR ein. Treffpunkt: Die bündnisgrüne Kreisgeschäft
 sstelle in der August-Bebel-Str. 24 in Neuruppin.<br /> Wer sich für das 
 Thema E-Autos und Ladeinfrastruktur allgemein interessiert\, aktuell über
  den Umstieg auf ein E-Auto nachdenkt\, bereits eigene Erfahrungen gesamme
 lt oder konkrete Anliegen zum Thema hat\, ist genau richtig. Als Gespräch
 spartner*innen sind auf jeden Fall dabei: Vier Personen\, die zu Beginn ku
 rz von ihren eigenen\, jeweils ganz unterschiedlichen Erfahrungen mit dem 
 eigenen E-Auto in OPR berichten und Ralf Reinhardt\, amtierender Landrat. 
 Herr Reinhardt fährt nicht nur selbst schon seit längerer Zeit ein E-Aut
 o\, sondern engagiert sich auch für den Ausbau der Ladeinfrastruktur und 
 die richtigen Rahmenbedingungen hierfür im Landkreis - und freut sich auf
  Ihre Fragen hierzu. Außerdem gibt es am 29. April vor Ort die wichtigste
 n Eckdaten zu aktuellen Förderprogrammen sowie zum Thema E-Mobilität und
  Ladeinfrastruktur in OPR und die Möglichkeit\, passend zum Thema Wünsch
 e an die Kommunal-\, Landes- oder Bundespolitik zu äußern. Der bündnisg
 rüne Kreisvorstand übermittelt Letztere im Anschluss an die richtigen Ad
 ressaten.</p>\n<p>Wir freuen uns auf Ihre Fragen und Gedanken zum Thema. E
 ine Anmeldung ist nicht erforderlich.</p>
LOCATION:
END:VEVENT
END:VCALENDAR
