BEGIN:VCALENDAR
VERSION:2.0
PRODID:-//TYPO3/NONSGML Calendarize//EN
BEGIN:VEVENT
UID:calendarize-politischer-stammtisch-20260428
DTSTAMP:20260425T112141Z
DTSTART:20260428T170000Z
DTEND:20260428T200000Z
SUMMARY:Politischer Stammtisch
DESCRIPTION:Jeden letzten Dienstag im Monat lädt der bündnisgrüne Ortsv
 erband Neuruppin ab 19 Uhr alle Interessierten und Freund*innen zum Austau
 sch in gemütlicher Atmosphäre ins Up Hus. Es wird erfahrungsgemäß übe
 r Themen gesprochen\, die uns hier ganz nah betreffen\, aber auch Europa u
 nd das Weltgeschehen haben meistens einen Platz. Wir freuen uns auf einen 
 offenen Austausch!\nIm Dezember entfällt das Treffen.
X-ALT-DESC;FMTTYPE=text/html:<p>Jeden letzten Dienstag im Monat lädt der 
 bündnisgrüne Ortsverband Neuruppin ab 19 Uhr alle Interessierten und Fre
 und*innen zum Austausch in gemütlicher Atmosphäre ins Up Hus. Es wird er
 fahrungsgemäß über Themen gesprochen\, die uns hier ganz nah betreffen\
 , aber auch Europa und das Weltgeschehen haben meistens einen Platz. Wir f
 reuen uns auf einen offenen Austausch!</p>\n<p>Im Dezember entfällt das T
 reffen.</p>
LOCATION:Up Hus\, Siechenstraße 4\, Neuruppin
END:VEVENT
END:VCALENDAR
